BEGIN:VCALENDAR
VERSION:2.0
PRODID:-//eventon.com NONSGML v1.0//EN
BEGIN:VEVENT
UID:69e5e6f03ee85
DTSTAMP:20260420T084224
DTSTART:20241215T100000Z
DTEND:20241215T150000Z
TZID:Etc/Greenwich
LOCATION:Markham Grange Garden Centre Long Lands Lane\,  Brodsworth\,  Woodlands\,  Doncaster\,  DN5 7XB
SUMMARY:Santa's Grotto
DESCRIPTION: &#x1f385;&#x2728; Pre-booking for our Traditional Santa&#8217;s Grotto is NOW OPEN! &#x1f381; Skip the queues and secure your spot today to meet Santa in his charming cottage &#x1f384; Purchase your pre booked Santa&#8217;s Grotto ticket and skip the queues to visit Santa in this beautiful grotto. Pre purchased tickets are still[..]\nhttps://markhamgrangegardencentre.co.uk/events/santas-grotto-5/
URL:https://markhamgrangegardencentre.co.uk/events/santas-grotto-5/
END:VEVENT
END:VCALENDAR